BEGIN:VCALENDAR
VERSION:2.0
PRODID:-//Institute for Jewish Spirituality - ECPv6.15.18//NONSGML v1.0//EN
CALSCALE:GREGORIAN
METHOD:PUBLISH
X-ORIGINAL-URL:https://www.jewishspirituality.org
X-WR-CALDESC:Events for Institute for Jewish Spirituality
REFRESH-INTERVAL;VALUE=DURATION:PT1H
X-Robots-Tag:noindex
X-PUBLISHED-TTL:PT1H
BEGIN:VTIMEZONE
TZID:America/New_York
BEGIN:DAYLIGHT
TZOFFSETFROM:-0500
TZOFFSETTO:-0400
TZNAME:EDT
DTSTART:20250309T070000
END:DAYLIGHT
BEGIN:STANDARD
TZOFFSETFROM:-0400
TZOFFSETTO:-0500
TZNAME:EST
DTSTART:20251102T060000
END:STANDARD
BEGIN:DAYLIGHT
TZOFFSETFROM:-0500
TZOFFSETTO:-0400
TZNAME:EDT
DTSTART:20260308T070000
END:DAYLIGHT
BEGIN:STANDARD
TZOFFSETFROM:-0400
TZOFFSETTO:-0500
TZNAME:EST
DTSTART:20261101T060000
END:STANDARD
BEGIN:DAYLIGHT
TZOFFSETFROM:-0500
TZOFFSETTO:-0400
TZNAME:EDT
DTSTART:20270314T070000
END:DAYLIGHT
BEGIN:STANDARD
TZOFFSETFROM:-0400
TZOFFSETTO:-0500
TZNAME:EST
DTSTART:20271107T060000
END:STANDARD
END:VTIMEZONE
BEGIN:VEVENT
DTSTART;TZID=America/New_York:20260420T123000
DTEND;TZID=America/New_York:20260420T130000
DTSTAMP:20260420T061007
CREATED:20250925T171616Z
LAST-MODIFIED:20260109T162051Z
UID:10006470-1776688200-1776690000@www.jewishspirituality.org
SUMMARY:Daily Online Meditation Sit
DESCRIPTION:Join one of our expert teachers as they lead a live daily guided meditation\, sharing 30 minutes of Jewish mindfulness with people from around the world. Open to all\, no experience needed.
URL:https://www.jewishspirituality.org/event/daily-online-meditation-sit/2026-04-20/
CATEGORIES:Free,Weekly Meditation Online
ATTACH;FMTTYPE=image/jpeg:https://www.jewishspirituality.org/wp-content/uploads/2024/09/Daily-Sit-IJS-Calendar-Thumb.jpg
END:VEVENT
BEGIN:VEVENT
DTSTART;TZID=America/New_York:20260420T200000
DTEND;TZID=America/New_York:20260420T203000
DTSTAMP:20260420T061007
CREATED:20250818T155146Z
LAST-MODIFIED:20251210T182817Z
UID:10001931-1776715200-1776717000@www.jewishspirituality.org
SUMMARY:Shevet: A Jewish Mindfulness Community for Young Adults
DESCRIPTION:Amidst the great challenges and joys of our ever-changing world\, spiritual practice in community can nurture our capacity for wise response\, compassion\, resilience\, and well-being. Join IJS and our growing young adult community for 30 minutes of weekly Jewish mindfulness practice for folks in their 20s and 30s. Hosted by IJS Core Faculty Rebecca Schisler\, each live Zoom session is guided by a leading guest teacher of Jewish spirituality and mindfulness\, and includes an additional 15 minutes of optional Q&A and sharing. Participants are invited to join our Shevet Jewish Mindfulness Community WhatsApp group to connect with other spiritual seekers.
URL:https://www.jewishspirituality.org/event/shevet-a-jewish-mindfulness-community-for-young-adults-2/2026-04-20/
CATEGORIES:Free,Weekly Meditation Online
ATTACH;FMTTYPE=image/jpeg:https://www.jewishspirituality.org/wp-content/uploads/2024/04/Shevet2024.jpg
END:VEVENT
END:VCALENDAR