BEGIN:VCALENDAR
VERSION:2.0
PRODID:-//Institute for Jewish Spirituality - ECPv6.15.18//NONSGML v1.0//EN
CALSCALE:GREGORIAN
METHOD:PUBLISH
X-ORIGINAL-URL:https://www.jewishspirituality.org
X-WR-CALDESC:Events for Institute for Jewish Spirituality
REFRESH-INTERVAL;VALUE=DURATION:PT1H
X-Robots-Tag:noindex
X-PUBLISHED-TTL:PT1H
BEGIN:VTIMEZONE
TZID:America/New_York
BEGIN:DAYLIGHT
TZOFFSETFROM:-0500
TZOFFSETTO:-0400
TZNAME:EDT
DTSTART:20250309T070000
END:DAYLIGHT
BEGIN:STANDARD
TZOFFSETFROM:-0400
TZOFFSETTO:-0500
TZNAME:EST
DTSTART:20251102T060000
END:STANDARD
BEGIN:DAYLIGHT
TZOFFSETFROM:-0500
TZOFFSETTO:-0400
TZNAME:EDT
DTSTART:20260308T070000
END:DAYLIGHT
BEGIN:STANDARD
TZOFFSETFROM:-0400
TZOFFSETTO:-0500
TZNAME:EST
DTSTART:20261101T060000
END:STANDARD
BEGIN:DAYLIGHT
TZOFFSETFROM:-0500
TZOFFSETTO:-0400
TZNAME:EDT
DTSTART:20270314T070000
END:DAYLIGHT
BEGIN:STANDARD
TZOFFSETFROM:-0400
TZOFFSETTO:-0500
TZNAME:EST
DTSTART:20271107T060000
END:STANDARD
END:VTIMEZONE
BEGIN:VEVENT
DTSTART;TZID=America/New_York:20260803T123000
DTEND;TZID=America/New_York:20260803T130000
DTSTAMP:20260424T163203
CREATED:20250925T171616Z
LAST-MODIFIED:20260109T162051Z
UID:10006575-1785760200-1785762000@www.jewishspirituality.org
SUMMARY:Daily Online Meditation Sit
DESCRIPTION:Join one of our expert teachers as they lead a live daily guided meditation\, sharing 30 minutes of Jewish mindfulness with people from around the world. Open to all\, no experience needed.
URL:https://www.jewishspirituality.org/event/daily-online-meditation-sit/2026-08-03/
CATEGORIES:Free,Weekly Meditation Online
ATTACH;FMTTYPE=image/jpeg:https://www.jewishspirituality.org/wp-content/uploads/2024/09/Daily-Sit-IJS-Calendar-Thumb.jpg
END:VEVENT
BEGIN:VEVENT
DTSTART;TZID=America/New_York:20260803T200000
DTEND;TZID=America/New_York:20260803T203000
DTSTAMP:20260424T163203
CREATED:20250818T155146Z
LAST-MODIFIED:20260422T023102Z
UID:10001946-1785787200-1785789000@www.jewishspirituality.org
SUMMARY:Shevet: A Jewish Mindfulness Community for Young Adults
DESCRIPTION:Amidst the great challenges and joys of our ever-changing world\, spiritual practice in community can nurture our capacity for wise response\, compassion\, resilience\, and well-being. Join IJS and our growing young adult community for 30 minutes of weekly Jewish mindfulness practice for folks in their 20s and 30s. Hosted by IJS Core Faculty Rebecca Schisler\, each live Zoom session is guided by a leading guest teacher of Jewish spirituality and mindfulness\, and includes an additional 15 minutes of optional Q&A and sharing. Participants are invited to join our Shevet Jewish Mindfulness Community WhatsApp group to connect with other spiritual seekers.
URL:https://www.jewishspirituality.org/event/shevet-a-jewish-mindfulness-community-for-young-adults-2/2026-08-03/
CATEGORIES:Free,Weekly Meditation Online
ATTACH;FMTTYPE=image/jpeg:https://www.jewishspirituality.org/wp-content/uploads/2024/04/Shevet2024.jpg
END:VEVENT
BEGIN:VEVENT
DTSTART;TZID=America/New_York:20260804T123000
DTEND;TZID=America/New_York:20260804T130000
DTSTAMP:20260424T163203
CREATED:20250925T171616Z
LAST-MODIFIED:20260109T162051Z
UID:10006576-1785846600-1785848400@www.jewishspirituality.org
SUMMARY:Daily Online Meditation Sit
DESCRIPTION:Join one of our expert teachers as they lead a live daily guided meditation\, sharing 30 minutes of Jewish mindfulness with people from around the world. Open to all\, no experience needed.
URL:https://www.jewishspirituality.org/event/daily-online-meditation-sit/2026-08-04/
CATEGORIES:Free,Weekly Meditation Online
ATTACH;FMTTYPE=image/jpeg:https://www.jewishspirituality.org/wp-content/uploads/2024/09/Daily-Sit-IJS-Calendar-Thumb.jpg
END:VEVENT
BEGIN:VEVENT
DTSTART;TZID=America/New_York:20260805T123000
DTEND;TZID=America/New_York:20260805T130000
DTSTAMP:20260424T163203
CREATED:20250925T171616Z
LAST-MODIFIED:20260109T162051Z
UID:10006577-1785933000-1785934800@www.jewishspirituality.org
SUMMARY:Daily Online Meditation Sit
DESCRIPTION:Join one of our expert teachers as they lead a live daily guided meditation\, sharing 30 minutes of Jewish mindfulness with people from around the world. Open to all\, no experience needed.
URL:https://www.jewishspirituality.org/event/daily-online-meditation-sit/2026-08-05/
CATEGORIES:Free,Weekly Meditation Online
ATTACH;FMTTYPE=image/jpeg:https://www.jewishspirituality.org/wp-content/uploads/2024/09/Daily-Sit-IJS-Calendar-Thumb.jpg
END:VEVENT
BEGIN:VEVENT
DTSTART;TZID=America/New_York:20260806T123000
DTEND;TZID=America/New_York:20260806T130000
DTSTAMP:20260424T163203
CREATED:20250925T171616Z
LAST-MODIFIED:20260109T162051Z
UID:10006578-1786019400-1786021200@www.jewishspirituality.org
SUMMARY:Daily Online Meditation Sit
DESCRIPTION:Join one of our expert teachers as they lead a live daily guided meditation\, sharing 30 minutes of Jewish mindfulness with people from around the world. Open to all\, no experience needed.
URL:https://www.jewishspirituality.org/event/daily-online-meditation-sit/2026-08-06/
CATEGORIES:Free,Weekly Meditation Online
ATTACH;FMTTYPE=image/jpeg:https://www.jewishspirituality.org/wp-content/uploads/2024/09/Daily-Sit-IJS-Calendar-Thumb.jpg
END:VEVENT
BEGIN:VEVENT
DTSTART;TZID=America/New_York:20260807T123000
DTEND;TZID=America/New_York:20260807T130000
DTSTAMP:20260424T163203
CREATED:20250925T171616Z
LAST-MODIFIED:20260109T162051Z
UID:10006579-1786105800-1786107600@www.jewishspirituality.org
SUMMARY:Daily Online Meditation Sit
DESCRIPTION:Join one of our expert teachers as they lead a live daily guided meditation\, sharing 30 minutes of Jewish mindfulness with people from around the world. Open to all\, no experience needed.
URL:https://www.jewishspirituality.org/event/daily-online-meditation-sit/2026-08-07/
CATEGORIES:Free,Weekly Meditation Online
ATTACH;FMTTYPE=image/jpeg:https://www.jewishspirituality.org/wp-content/uploads/2024/09/Daily-Sit-IJS-Calendar-Thumb.jpg
END:VEVENT
BEGIN:VEVENT
DTSTART;TZID=America/New_York:20260810T123000
DTEND;TZID=America/New_York:20260810T130000
DTSTAMP:20260424T163203
CREATED:20250925T171616Z
LAST-MODIFIED:20260109T162051Z
UID:10006582-1786365000-1786366800@www.jewishspirituality.org
SUMMARY:Daily Online Meditation Sit
DESCRIPTION:Join one of our expert teachers as they lead a live daily guided meditation\, sharing 30 minutes of Jewish mindfulness with people from around the world. Open to all\, no experience needed.
URL:https://www.jewishspirituality.org/event/daily-online-meditation-sit/2026-08-10/
CATEGORIES:Free,Weekly Meditation Online
ATTACH;FMTTYPE=image/jpeg:https://www.jewishspirituality.org/wp-content/uploads/2024/09/Daily-Sit-IJS-Calendar-Thumb.jpg
END:VEVENT
BEGIN:VEVENT
DTSTART;TZID=America/New_York:20260810T200000
DTEND;TZID=America/New_York:20260810T203000
DTSTAMP:20260424T163203
CREATED:20250818T155146Z
LAST-MODIFIED:20260422T023102Z
UID:10001947-1786392000-1786393800@www.jewishspirituality.org
SUMMARY:Shevet: A Jewish Mindfulness Community for Young Adults
DESCRIPTION:Amidst the great challenges and joys of our ever-changing world\, spiritual practice in community can nurture our capacity for wise response\, compassion\, resilience\, and well-being. Join IJS and our growing young adult community for 30 minutes of weekly Jewish mindfulness practice for folks in their 20s and 30s. Hosted by IJS Core Faculty Rebecca Schisler\, each live Zoom session is guided by a leading guest teacher of Jewish spirituality and mindfulness\, and includes an additional 15 minutes of optional Q&A and sharing. Participants are invited to join our Shevet Jewish Mindfulness Community WhatsApp group to connect with other spiritual seekers.
URL:https://www.jewishspirituality.org/event/shevet-a-jewish-mindfulness-community-for-young-adults-2/2026-08-10/
CATEGORIES:Free,Weekly Meditation Online
ATTACH;FMTTYPE=image/jpeg:https://www.jewishspirituality.org/wp-content/uploads/2024/04/Shevet2024.jpg
END:VEVENT
BEGIN:VEVENT
DTSTART;TZID=America/New_York:20260811T123000
DTEND;TZID=America/New_York:20260811T130000
DTSTAMP:20260424T163203
CREATED:20250925T171616Z
LAST-MODIFIED:20260109T162051Z
UID:10006583-1786451400-1786453200@www.jewishspirituality.org
SUMMARY:Daily Online Meditation Sit
DESCRIPTION:Join one of our expert teachers as they lead a live daily guided meditation\, sharing 30 minutes of Jewish mindfulness with people from around the world. Open to all\, no experience needed.
URL:https://www.jewishspirituality.org/event/daily-online-meditation-sit/2026-08-11/
CATEGORIES:Free,Weekly Meditation Online
ATTACH;FMTTYPE=image/jpeg:https://www.jewishspirituality.org/wp-content/uploads/2024/09/Daily-Sit-IJS-Calendar-Thumb.jpg
END:VEVENT
BEGIN:VEVENT
DTSTART;TZID=America/New_York:20260812T123000
DTEND;TZID=America/New_York:20260812T130000
DTSTAMP:20260424T163203
CREATED:20250925T171616Z
LAST-MODIFIED:20260109T162051Z
UID:10006584-1786537800-1786539600@www.jewishspirituality.org
SUMMARY:Daily Online Meditation Sit
DESCRIPTION:Join one of our expert teachers as they lead a live daily guided meditation\, sharing 30 minutes of Jewish mindfulness with people from around the world. Open to all\, no experience needed.
URL:https://www.jewishspirituality.org/event/daily-online-meditation-sit/2026-08-12/
CATEGORIES:Free,Weekly Meditation Online
ATTACH;FMTTYPE=image/jpeg:https://www.jewishspirituality.org/wp-content/uploads/2024/09/Daily-Sit-IJS-Calendar-Thumb.jpg
END:VEVENT
BEGIN:VEVENT
DTSTART;TZID=America/New_York:20260813T123000
DTEND;TZID=America/New_York:20260813T130000
DTSTAMP:20260424T163203
CREATED:20250925T171616Z
LAST-MODIFIED:20260109T162051Z
UID:10006585-1786624200-1786626000@www.jewishspirituality.org
SUMMARY:Daily Online Meditation Sit
DESCRIPTION:Join one of our expert teachers as they lead a live daily guided meditation\, sharing 30 minutes of Jewish mindfulness with people from around the world. Open to all\, no experience needed.
URL:https://www.jewishspirituality.org/event/daily-online-meditation-sit/2026-08-13/
CATEGORIES:Free,Weekly Meditation Online
ATTACH;FMTTYPE=image/jpeg:https://www.jewishspirituality.org/wp-content/uploads/2024/09/Daily-Sit-IJS-Calendar-Thumb.jpg
END:VEVENT
BEGIN:VEVENT
DTSTART;TZID=America/New_York:20260814T123000
DTEND;TZID=America/New_York:20260814T130000
DTSTAMP:20260424T163203
CREATED:20250925T171616Z
LAST-MODIFIED:20260109T162051Z
UID:10006586-1786710600-1786712400@www.jewishspirituality.org
SUMMARY:Daily Online Meditation Sit
DESCRIPTION:Join one of our expert teachers as they lead a live daily guided meditation\, sharing 30 minutes of Jewish mindfulness with people from around the world. Open to all\, no experience needed.
URL:https://www.jewishspirituality.org/event/daily-online-meditation-sit/2026-08-14/
CATEGORIES:Free,Weekly Meditation Online
ATTACH;FMTTYPE=image/jpeg:https://www.jewishspirituality.org/wp-content/uploads/2024/09/Daily-Sit-IJS-Calendar-Thumb.jpg
END:VEVENT
BEGIN:VEVENT
DTSTART;TZID=America/New_York:20260817T123000
DTEND;TZID=America/New_York:20260817T130000
DTSTAMP:20260424T163203
CREATED:20250925T171616Z
LAST-MODIFIED:20260109T162051Z
UID:10006589-1786969800-1786971600@www.jewishspirituality.org
SUMMARY:Daily Online Meditation Sit
DESCRIPTION:Join one of our expert teachers as they lead a live daily guided meditation\, sharing 30 minutes of Jewish mindfulness with people from around the world. Open to all\, no experience needed.
URL:https://www.jewishspirituality.org/event/daily-online-meditation-sit/2026-08-17/
CATEGORIES:Free,Weekly Meditation Online
ATTACH;FMTTYPE=image/jpeg:https://www.jewishspirituality.org/wp-content/uploads/2024/09/Daily-Sit-IJS-Calendar-Thumb.jpg
END:VEVENT
BEGIN:VEVENT
DTSTART;TZID=America/New_York:20260817T200000
DTEND;TZID=America/New_York:20260817T203000
DTSTAMP:20260424T163203
CREATED:20250818T155146Z
LAST-MODIFIED:20260422T023102Z
UID:10001948-1786996800-1786998600@www.jewishspirituality.org
SUMMARY:Shevet: A Jewish Mindfulness Community for Young Adults
DESCRIPTION:Amidst the great challenges and joys of our ever-changing world\, spiritual practice in community can nurture our capacity for wise response\, compassion\, resilience\, and well-being. Join IJS and our growing young adult community for 30 minutes of weekly Jewish mindfulness practice for folks in their 20s and 30s. Hosted by IJS Core Faculty Rebecca Schisler\, each live Zoom session is guided by a leading guest teacher of Jewish spirituality and mindfulness\, and includes an additional 15 minutes of optional Q&A and sharing. Participants are invited to join our Shevet Jewish Mindfulness Community WhatsApp group to connect with other spiritual seekers.
URL:https://www.jewishspirituality.org/event/shevet-a-jewish-mindfulness-community-for-young-adults-2/2026-08-17/
CATEGORIES:Free,Weekly Meditation Online
ATTACH;FMTTYPE=image/jpeg:https://www.jewishspirituality.org/wp-content/uploads/2024/04/Shevet2024.jpg
END:VEVENT
BEGIN:VEVENT
DTSTART;TZID=America/New_York:20260818T123000
DTEND;TZID=America/New_York:20260818T130000
DTSTAMP:20260424T163203
CREATED:20250925T171616Z
LAST-MODIFIED:20260109T162051Z
UID:10006590-1787056200-1787058000@www.jewishspirituality.org
SUMMARY:Daily Online Meditation Sit
DESCRIPTION:Join one of our expert teachers as they lead a live daily guided meditation\, sharing 30 minutes of Jewish mindfulness with people from around the world. Open to all\, no experience needed.
URL:https://www.jewishspirituality.org/event/daily-online-meditation-sit/2026-08-18/
CATEGORIES:Free,Weekly Meditation Online
ATTACH;FMTTYPE=image/jpeg:https://www.jewishspirituality.org/wp-content/uploads/2024/09/Daily-Sit-IJS-Calendar-Thumb.jpg
END:VEVENT
BEGIN:VEVENT
DTSTART;TZID=America/New_York:20260819T123000
DTEND;TZID=America/New_York:20260819T130000
DTSTAMP:20260424T163203
CREATED:20250925T171616Z
LAST-MODIFIED:20260109T162051Z
UID:10006591-1787142600-1787144400@www.jewishspirituality.org
SUMMARY:Daily Online Meditation Sit
DESCRIPTION:Join one of our expert teachers as they lead a live daily guided meditation\, sharing 30 minutes of Jewish mindfulness with people from around the world. Open to all\, no experience needed.
URL:https://www.jewishspirituality.org/event/daily-online-meditation-sit/2026-08-19/
CATEGORIES:Free,Weekly Meditation Online
ATTACH;FMTTYPE=image/jpeg:https://www.jewishspirituality.org/wp-content/uploads/2024/09/Daily-Sit-IJS-Calendar-Thumb.jpg
END:VEVENT
BEGIN:VEVENT
DTSTART;TZID=America/New_York:20260820T123000
DTEND;TZID=America/New_York:20260820T130000
DTSTAMP:20260424T163203
CREATED:20250925T171616Z
LAST-MODIFIED:20260109T162051Z
UID:10006592-1787229000-1787230800@www.jewishspirituality.org
SUMMARY:Daily Online Meditation Sit
DESCRIPTION:Join one of our expert teachers as they lead a live daily guided meditation\, sharing 30 minutes of Jewish mindfulness with people from around the world. Open to all\, no experience needed.
URL:https://www.jewishspirituality.org/event/daily-online-meditation-sit/2026-08-20/
CATEGORIES:Free,Weekly Meditation Online
ATTACH;FMTTYPE=image/jpeg:https://www.jewishspirituality.org/wp-content/uploads/2024/09/Daily-Sit-IJS-Calendar-Thumb.jpg
END:VEVENT
BEGIN:VEVENT
DTSTART;TZID=America/New_York:20260821T123000
DTEND;TZID=America/New_York:20260821T130000
DTSTAMP:20260424T163203
CREATED:20250925T171616Z
LAST-MODIFIED:20260109T162051Z
UID:10006593-1787315400-1787317200@www.jewishspirituality.org
SUMMARY:Daily Online Meditation Sit
DESCRIPTION:Join one of our expert teachers as they lead a live daily guided meditation\, sharing 30 minutes of Jewish mindfulness with people from around the world. Open to all\, no experience needed.
URL:https://www.jewishspirituality.org/event/daily-online-meditation-sit/2026-08-21/
CATEGORIES:Free,Weekly Meditation Online
ATTACH;FMTTYPE=image/jpeg:https://www.jewishspirituality.org/wp-content/uploads/2024/09/Daily-Sit-IJS-Calendar-Thumb.jpg
END:VEVENT
BEGIN:VEVENT
DTSTART;TZID=America/New_York:20260824T123000
DTEND;TZID=America/New_York:20260824T130000
DTSTAMP:20260424T163203
CREATED:20250925T171616Z
LAST-MODIFIED:20260109T162051Z
UID:10006596-1787574600-1787576400@www.jewishspirituality.org
SUMMARY:Daily Online Meditation Sit
DESCRIPTION:Join one of our expert teachers as they lead a live daily guided meditation\, sharing 30 minutes of Jewish mindfulness with people from around the world. Open to all\, no experience needed.
URL:https://www.jewishspirituality.org/event/daily-online-meditation-sit/2026-08-24/
CATEGORIES:Free,Weekly Meditation Online
ATTACH;FMTTYPE=image/jpeg:https://www.jewishspirituality.org/wp-content/uploads/2024/09/Daily-Sit-IJS-Calendar-Thumb.jpg
END:VEVENT
BEGIN:VEVENT
DTSTART;TZID=America/New_York:20260824T200000
DTEND;TZID=America/New_York:20260824T203000
DTSTAMP:20260424T163203
CREATED:20250818T155146Z
LAST-MODIFIED:20260422T023102Z
UID:10001949-1787601600-1787603400@www.jewishspirituality.org
SUMMARY:Shevet: A Jewish Mindfulness Community for Young Adults
DESCRIPTION:Amidst the great challenges and joys of our ever-changing world\, spiritual practice in community can nurture our capacity for wise response\, compassion\, resilience\, and well-being. Join IJS and our growing young adult community for 30 minutes of weekly Jewish mindfulness practice for folks in their 20s and 30s. Hosted by IJS Core Faculty Rebecca Schisler\, each live Zoom session is guided by a leading guest teacher of Jewish spirituality and mindfulness\, and includes an additional 15 minutes of optional Q&A and sharing. Participants are invited to join our Shevet Jewish Mindfulness Community WhatsApp group to connect with other spiritual seekers.
URL:https://www.jewishspirituality.org/event/shevet-a-jewish-mindfulness-community-for-young-adults-2/2026-08-24/
CATEGORIES:Free,Weekly Meditation Online
ATTACH;FMTTYPE=image/jpeg:https://www.jewishspirituality.org/wp-content/uploads/2024/04/Shevet2024.jpg
END:VEVENT
BEGIN:VEVENT
DTSTART;TZID=America/New_York:20260825T123000
DTEND;TZID=America/New_York:20260825T130000
DTSTAMP:20260424T163203
CREATED:20250925T171616Z
LAST-MODIFIED:20260109T162051Z
UID:10006597-1787661000-1787662800@www.jewishspirituality.org
SUMMARY:Daily Online Meditation Sit
DESCRIPTION:Join one of our expert teachers as they lead a live daily guided meditation\, sharing 30 minutes of Jewish mindfulness with people from around the world. Open to all\, no experience needed.
URL:https://www.jewishspirituality.org/event/daily-online-meditation-sit/2026-08-25/
CATEGORIES:Free,Weekly Meditation Online
ATTACH;FMTTYPE=image/jpeg:https://www.jewishspirituality.org/wp-content/uploads/2024/09/Daily-Sit-IJS-Calendar-Thumb.jpg
END:VEVENT
BEGIN:VEVENT
DTSTART;TZID=America/New_York:20260826T123000
DTEND;TZID=America/New_York:20260826T130000
DTSTAMP:20260424T163203
CREATED:20250925T171616Z
LAST-MODIFIED:20260109T162051Z
UID:10006598-1787747400-1787749200@www.jewishspirituality.org
SUMMARY:Daily Online Meditation Sit
DESCRIPTION:Join one of our expert teachers as they lead a live daily guided meditation\, sharing 30 minutes of Jewish mindfulness with people from around the world. Open to all\, no experience needed.
URL:https://www.jewishspirituality.org/event/daily-online-meditation-sit/2026-08-26/
CATEGORIES:Free,Weekly Meditation Online
ATTACH;FMTTYPE=image/jpeg:https://www.jewishspirituality.org/wp-content/uploads/2024/09/Daily-Sit-IJS-Calendar-Thumb.jpg
END:VEVENT
BEGIN:VEVENT
DTSTART;TZID=America/New_York:20260827T123000
DTEND;TZID=America/New_York:20260827T130000
DTSTAMP:20260424T163203
CREATED:20250925T171616Z
LAST-MODIFIED:20260109T162051Z
UID:10006599-1787833800-1787835600@www.jewishspirituality.org
SUMMARY:Daily Online Meditation Sit
DESCRIPTION:Join one of our expert teachers as they lead a live daily guided meditation\, sharing 30 minutes of Jewish mindfulness with people from around the world. Open to all\, no experience needed.
URL:https://www.jewishspirituality.org/event/daily-online-meditation-sit/2026-08-27/
CATEGORIES:Free,Weekly Meditation Online
ATTACH;FMTTYPE=image/jpeg:https://www.jewishspirituality.org/wp-content/uploads/2024/09/Daily-Sit-IJS-Calendar-Thumb.jpg
END:VEVENT
BEGIN:VEVENT
DTSTART;TZID=America/New_York:20260828T123000
DTEND;TZID=America/New_York:20260828T130000
DTSTAMP:20260424T163203
CREATED:20250925T171616Z
LAST-MODIFIED:20260109T162051Z
UID:10006600-1787920200-1787922000@www.jewishspirituality.org
SUMMARY:Daily Online Meditation Sit
DESCRIPTION:Join one of our expert teachers as they lead a live daily guided meditation\, sharing 30 minutes of Jewish mindfulness with people from around the world. Open to all\, no experience needed.
URL:https://www.jewishspirituality.org/event/daily-online-meditation-sit/2026-08-28/
CATEGORIES:Free,Weekly Meditation Online
ATTACH;FMTTYPE=image/jpeg:https://www.jewishspirituality.org/wp-content/uploads/2024/09/Daily-Sit-IJS-Calendar-Thumb.jpg
END:VEVENT
BEGIN:VEVENT
DTSTART;TZID=America/New_York:20260831T123000
DTEND;TZID=America/New_York:20260831T130000
DTSTAMP:20260424T163203
CREATED:20250925T171616Z
LAST-MODIFIED:20260109T162051Z
UID:10006603-1788179400-1788181200@www.jewishspirituality.org
SUMMARY:Daily Online Meditation Sit
DESCRIPTION:Join one of our expert teachers as they lead a live daily guided meditation\, sharing 30 minutes of Jewish mindfulness with people from around the world. Open to all\, no experience needed.
URL:https://www.jewishspirituality.org/event/daily-online-meditation-sit/2026-08-31/
CATEGORIES:Free,Weekly Meditation Online
ATTACH;FMTTYPE=image/jpeg:https://www.jewishspirituality.org/wp-content/uploads/2024/09/Daily-Sit-IJS-Calendar-Thumb.jpg
END:VEVENT
BEGIN:VEVENT
DTSTART;TZID=America/New_York:20260831T200000
DTEND;TZID=America/New_York:20260831T203000
DTSTAMP:20260424T163203
CREATED:20250818T155146Z
LAST-MODIFIED:20260422T023102Z
UID:10001950-1788206400-1788208200@www.jewishspirituality.org
SUMMARY:Shevet: A Jewish Mindfulness Community for Young Adults
DESCRIPTION:Amidst the great challenges and joys of our ever-changing world\, spiritual practice in community can nurture our capacity for wise response\, compassion\, resilience\, and well-being. Join IJS and our growing young adult community for 30 minutes of weekly Jewish mindfulness practice for folks in their 20s and 30s. Hosted by IJS Core Faculty Rebecca Schisler\, each live Zoom session is guided by a leading guest teacher of Jewish spirituality and mindfulness\, and includes an additional 15 minutes of optional Q&A and sharing. Participants are invited to join our Shevet Jewish Mindfulness Community WhatsApp group to connect with other spiritual seekers.
URL:https://www.jewishspirituality.org/event/shevet-a-jewish-mindfulness-community-for-young-adults-2/2026-08-31/
CATEGORIES:Free,Weekly Meditation Online
ATTACH;FMTTYPE=image/jpeg:https://www.jewishspirituality.org/wp-content/uploads/2024/04/Shevet2024.jpg
END:VEVENT
END:VCALENDAR