BEGIN:VCALENDAR
VERSION:2.0
PRODID:-//Institute for Jewish Spirituality - ECPv6.15.18//NONSGML v1.0//EN
CALSCALE:GREGORIAN
METHOD:PUBLISH
X-ORIGINAL-URL:https://www.jewishspirituality.org
X-WR-CALDESC:Events for Institute for Jewish Spirituality
REFRESH-INTERVAL;VALUE=DURATION:PT1H
X-Robots-Tag:noindex
X-PUBLISHED-TTL:PT1H
BEGIN:VTIMEZONE
TZID:America/New_York
BEGIN:DAYLIGHT
TZOFFSETFROM:-0500
TZOFFSETTO:-0400
TZNAME:EDT
DTSTART:20250309T070000
END:DAYLIGHT
BEGIN:STANDARD
TZOFFSETFROM:-0400
TZOFFSETTO:-0500
TZNAME:EST
DTSTART:20251102T060000
END:STANDARD
BEGIN:DAYLIGHT
TZOFFSETFROM:-0500
TZOFFSETTO:-0400
TZNAME:EDT
DTSTART:20260308T070000
END:DAYLIGHT
BEGIN:STANDARD
TZOFFSETFROM:-0400
TZOFFSETTO:-0500
TZNAME:EST
DTSTART:20261101T060000
END:STANDARD
BEGIN:DAYLIGHT
TZOFFSETFROM:-0500
TZOFFSETTO:-0400
TZNAME:EDT
DTSTART:20270314T070000
END:DAYLIGHT
BEGIN:STANDARD
TZOFFSETFROM:-0400
TZOFFSETTO:-0500
TZNAME:EST
DTSTART:20271107T060000
END:STANDARD
END:VTIMEZONE
BEGIN:VEVENT
DTSTART;TZID=America/New_York:20260701T123000
DTEND;TZID=America/New_York:20260701T130000
DTSTAMP:20260424T145903
CREATED:20250925T171616Z
LAST-MODIFIED:20260109T162051Z
UID:10006542-1782909000-1782910800@www.jewishspirituality.org
SUMMARY:Daily Online Meditation Sit
DESCRIPTION:Join one of our expert teachers as they lead a live daily guided meditation\, sharing 30 minutes of Jewish mindfulness with people from around the world. Open to all\, no experience needed.
URL:https://www.jewishspirituality.org/event/daily-online-meditation-sit/2026-07-01/
CATEGORIES:Free,Weekly Meditation Online
ATTACH;FMTTYPE=image/jpeg:https://www.jewishspirituality.org/wp-content/uploads/2024/09/Daily-Sit-IJS-Calendar-Thumb.jpg
END:VEVENT
BEGIN:VEVENT
DTSTART;TZID=America/New_York:20260702T123000
DTEND;TZID=America/New_York:20260702T130000
DTSTAMP:20260424T145903
CREATED:20250925T171616Z
LAST-MODIFIED:20260109T162051Z
UID:10006543-1782995400-1782997200@www.jewishspirituality.org
SUMMARY:Daily Online Meditation Sit
DESCRIPTION:Join one of our expert teachers as they lead a live daily guided meditation\, sharing 30 minutes of Jewish mindfulness with people from around the world. Open to all\, no experience needed.
URL:https://www.jewishspirituality.org/event/daily-online-meditation-sit/2026-07-02/
CATEGORIES:Free,Weekly Meditation Online
ATTACH;FMTTYPE=image/jpeg:https://www.jewishspirituality.org/wp-content/uploads/2024/09/Daily-Sit-IJS-Calendar-Thumb.jpg
END:VEVENT
BEGIN:VEVENT
DTSTART;TZID=America/New_York:20260703T123000
DTEND;TZID=America/New_York:20260703T130000
DTSTAMP:20260424T145903
CREATED:20250925T171616Z
LAST-MODIFIED:20260109T162051Z
UID:10006544-1783081800-1783083600@www.jewishspirituality.org
SUMMARY:Daily Online Meditation Sit
DESCRIPTION:Join one of our expert teachers as they lead a live daily guided meditation\, sharing 30 minutes of Jewish mindfulness with people from around the world. Open to all\, no experience needed.
URL:https://www.jewishspirituality.org/event/daily-online-meditation-sit/2026-07-03/
CATEGORIES:Free,Weekly Meditation Online
ATTACH;FMTTYPE=image/jpeg:https://www.jewishspirituality.org/wp-content/uploads/2024/09/Daily-Sit-IJS-Calendar-Thumb.jpg
END:VEVENT
BEGIN:VEVENT
DTSTART;TZID=America/New_York:20260706T123000
DTEND;TZID=America/New_York:20260706T130000
DTSTAMP:20260424T145903
CREATED:20250925T171616Z
LAST-MODIFIED:20260109T162051Z
UID:10006547-1783341000-1783342800@www.jewishspirituality.org
SUMMARY:Daily Online Meditation Sit
DESCRIPTION:Join one of our expert teachers as they lead a live daily guided meditation\, sharing 30 minutes of Jewish mindfulness with people from around the world. Open to all\, no experience needed.
URL:https://www.jewishspirituality.org/event/daily-online-meditation-sit/2026-07-06/
CATEGORIES:Free,Weekly Meditation Online
ATTACH;FMTTYPE=image/jpeg:https://www.jewishspirituality.org/wp-content/uploads/2024/09/Daily-Sit-IJS-Calendar-Thumb.jpg
END:VEVENT
BEGIN:VEVENT
DTSTART;TZID=America/New_York:20260706T200000
DTEND;TZID=America/New_York:20260706T203000
DTSTAMP:20260424T145903
CREATED:20250818T155146Z
LAST-MODIFIED:20260422T023102Z
UID:10001942-1783368000-1783369800@www.jewishspirituality.org
SUMMARY:Shevet: A Jewish Mindfulness Community for Young Adults
DESCRIPTION:Amidst the great challenges and joys of our ever-changing world\, spiritual practice in community can nurture our capacity for wise response\, compassion\, resilience\, and well-being. Join IJS and our growing young adult community for 30 minutes of weekly Jewish mindfulness practice for folks in their 20s and 30s. Hosted by IJS Core Faculty Rebecca Schisler\, each live Zoom session is guided by a leading guest teacher of Jewish spirituality and mindfulness\, and includes an additional 15 minutes of optional Q&A and sharing. Participants are invited to join our Shevet Jewish Mindfulness Community WhatsApp group to connect with other spiritual seekers.
URL:https://www.jewishspirituality.org/event/shevet-a-jewish-mindfulness-community-for-young-adults-2/2026-07-06/
CATEGORIES:Free,Weekly Meditation Online
ATTACH;FMTTYPE=image/jpeg:https://www.jewishspirituality.org/wp-content/uploads/2024/04/Shevet2024.jpg
END:VEVENT
BEGIN:VEVENT
DTSTART;TZID=America/New_York:20260707T123000
DTEND;TZID=America/New_York:20260707T130000
DTSTAMP:20260424T145903
CREATED:20250925T171616Z
LAST-MODIFIED:20260109T162051Z
UID:10006548-1783427400-1783429200@www.jewishspirituality.org
SUMMARY:Daily Online Meditation Sit
DESCRIPTION:Join one of our expert teachers as they lead a live daily guided meditation\, sharing 30 minutes of Jewish mindfulness with people from around the world. Open to all\, no experience needed.
URL:https://www.jewishspirituality.org/event/daily-online-meditation-sit/2026-07-07/
CATEGORIES:Free,Weekly Meditation Online
ATTACH;FMTTYPE=image/jpeg:https://www.jewishspirituality.org/wp-content/uploads/2024/09/Daily-Sit-IJS-Calendar-Thumb.jpg
END:VEVENT
BEGIN:VEVENT
DTSTART;TZID=America/New_York:20260708T123000
DTEND;TZID=America/New_York:20260708T130000
DTSTAMP:20260424T145903
CREATED:20250925T171616Z
LAST-MODIFIED:20260109T162051Z
UID:10006549-1783513800-1783515600@www.jewishspirituality.org
SUMMARY:Daily Online Meditation Sit
DESCRIPTION:Join one of our expert teachers as they lead a live daily guided meditation\, sharing 30 minutes of Jewish mindfulness with people from around the world. Open to all\, no experience needed.
URL:https://www.jewishspirituality.org/event/daily-online-meditation-sit/2026-07-08/
CATEGORIES:Free,Weekly Meditation Online
ATTACH;FMTTYPE=image/jpeg:https://www.jewishspirituality.org/wp-content/uploads/2024/09/Daily-Sit-IJS-Calendar-Thumb.jpg
END:VEVENT
BEGIN:VEVENT
DTSTART;TZID=America/New_York:20260709T123000
DTEND;TZID=America/New_York:20260709T130000
DTSTAMP:20260424T145903
CREATED:20250925T171616Z
LAST-MODIFIED:20260109T162051Z
UID:10006550-1783600200-1783602000@www.jewishspirituality.org
SUMMARY:Daily Online Meditation Sit
DESCRIPTION:Join one of our expert teachers as they lead a live daily guided meditation\, sharing 30 minutes of Jewish mindfulness with people from around the world. Open to all\, no experience needed.
URL:https://www.jewishspirituality.org/event/daily-online-meditation-sit/2026-07-09/
CATEGORIES:Free,Weekly Meditation Online
ATTACH;FMTTYPE=image/jpeg:https://www.jewishspirituality.org/wp-content/uploads/2024/09/Daily-Sit-IJS-Calendar-Thumb.jpg
END:VEVENT
BEGIN:VEVENT
DTSTART;TZID=America/New_York:20260710T123000
DTEND;TZID=America/New_York:20260710T130000
DTSTAMP:20260424T145903
CREATED:20250925T171616Z
LAST-MODIFIED:20260109T162051Z
UID:10006551-1783686600-1783688400@www.jewishspirituality.org
SUMMARY:Daily Online Meditation Sit
DESCRIPTION:Join one of our expert teachers as they lead a live daily guided meditation\, sharing 30 minutes of Jewish mindfulness with people from around the world. Open to all\, no experience needed.
URL:https://www.jewishspirituality.org/event/daily-online-meditation-sit/2026-07-10/
CATEGORIES:Free,Weekly Meditation Online
ATTACH;FMTTYPE=image/jpeg:https://www.jewishspirituality.org/wp-content/uploads/2024/09/Daily-Sit-IJS-Calendar-Thumb.jpg
END:VEVENT
BEGIN:VEVENT
DTSTART;TZID=America/New_York:20260713T123000
DTEND;TZID=America/New_York:20260713T130000
DTSTAMP:20260424T145903
CREATED:20250925T171616Z
LAST-MODIFIED:20260109T162051Z
UID:10006554-1783945800-1783947600@www.jewishspirituality.org
SUMMARY:Daily Online Meditation Sit
DESCRIPTION:Join one of our expert teachers as they lead a live daily guided meditation\, sharing 30 minutes of Jewish mindfulness with people from around the world. Open to all\, no experience needed.
URL:https://www.jewishspirituality.org/event/daily-online-meditation-sit/2026-07-13/
CATEGORIES:Free,Weekly Meditation Online
ATTACH;FMTTYPE=image/jpeg:https://www.jewishspirituality.org/wp-content/uploads/2024/09/Daily-Sit-IJS-Calendar-Thumb.jpg
END:VEVENT
BEGIN:VEVENT
DTSTART;TZID=America/New_York:20260713T200000
DTEND;TZID=America/New_York:20260713T203000
DTSTAMP:20260424T145903
CREATED:20250818T155146Z
LAST-MODIFIED:20260422T023102Z
UID:10001943-1783972800-1783974600@www.jewishspirituality.org
SUMMARY:Shevet: A Jewish Mindfulness Community for Young Adults
DESCRIPTION:Amidst the great challenges and joys of our ever-changing world\, spiritual practice in community can nurture our capacity for wise response\, compassion\, resilience\, and well-being. Join IJS and our growing young adult community for 30 minutes of weekly Jewish mindfulness practice for folks in their 20s and 30s. Hosted by IJS Core Faculty Rebecca Schisler\, each live Zoom session is guided by a leading guest teacher of Jewish spirituality and mindfulness\, and includes an additional 15 minutes of optional Q&A and sharing. Participants are invited to join our Shevet Jewish Mindfulness Community WhatsApp group to connect with other spiritual seekers.
URL:https://www.jewishspirituality.org/event/shevet-a-jewish-mindfulness-community-for-young-adults-2/2026-07-13/
CATEGORIES:Free,Weekly Meditation Online
ATTACH;FMTTYPE=image/jpeg:https://www.jewishspirituality.org/wp-content/uploads/2024/04/Shevet2024.jpg
END:VEVENT
BEGIN:VEVENT
DTSTART;TZID=America/New_York:20260714T123000
DTEND;TZID=America/New_York:20260714T130000
DTSTAMP:20260424T145903
CREATED:20250925T171616Z
LAST-MODIFIED:20260109T162051Z
UID:10006555-1784032200-1784034000@www.jewishspirituality.org
SUMMARY:Daily Online Meditation Sit
DESCRIPTION:Join one of our expert teachers as they lead a live daily guided meditation\, sharing 30 minutes of Jewish mindfulness with people from around the world. Open to all\, no experience needed.
URL:https://www.jewishspirituality.org/event/daily-online-meditation-sit/2026-07-14/
CATEGORIES:Free,Weekly Meditation Online
ATTACH;FMTTYPE=image/jpeg:https://www.jewishspirituality.org/wp-content/uploads/2024/09/Daily-Sit-IJS-Calendar-Thumb.jpg
END:VEVENT
BEGIN:VEVENT
DTSTART;TZID=America/New_York:20260715T123000
DTEND;TZID=America/New_York:20260715T130000
DTSTAMP:20260424T145903
CREATED:20250925T171616Z
LAST-MODIFIED:20260109T162051Z
UID:10006556-1784118600-1784120400@www.jewishspirituality.org
SUMMARY:Daily Online Meditation Sit
DESCRIPTION:Join one of our expert teachers as they lead a live daily guided meditation\, sharing 30 minutes of Jewish mindfulness with people from around the world. Open to all\, no experience needed.
URL:https://www.jewishspirituality.org/event/daily-online-meditation-sit/2026-07-15/
CATEGORIES:Free,Weekly Meditation Online
ATTACH;FMTTYPE=image/jpeg:https://www.jewishspirituality.org/wp-content/uploads/2024/09/Daily-Sit-IJS-Calendar-Thumb.jpg
END:VEVENT
BEGIN:VEVENT
DTSTART;TZID=America/New_York:20260716T123000
DTEND;TZID=America/New_York:20260716T130000
DTSTAMP:20260424T145903
CREATED:20250925T171616Z
LAST-MODIFIED:20260109T162051Z
UID:10006557-1784205000-1784206800@www.jewishspirituality.org
SUMMARY:Daily Online Meditation Sit
DESCRIPTION:Join one of our expert teachers as they lead a live daily guided meditation\, sharing 30 minutes of Jewish mindfulness with people from around the world. Open to all\, no experience needed.
URL:https://www.jewishspirituality.org/event/daily-online-meditation-sit/2026-07-16/
CATEGORIES:Free,Weekly Meditation Online
ATTACH;FMTTYPE=image/jpeg:https://www.jewishspirituality.org/wp-content/uploads/2024/09/Daily-Sit-IJS-Calendar-Thumb.jpg
END:VEVENT
BEGIN:VEVENT
DTSTART;TZID=America/New_York:20260717T123000
DTEND;TZID=America/New_York:20260717T130000
DTSTAMP:20260424T145903
CREATED:20250925T171616Z
LAST-MODIFIED:20260109T162051Z
UID:10006558-1784291400-1784293200@www.jewishspirituality.org
SUMMARY:Daily Online Meditation Sit
DESCRIPTION:Join one of our expert teachers as they lead a live daily guided meditation\, sharing 30 minutes of Jewish mindfulness with people from around the world. Open to all\, no experience needed.
URL:https://www.jewishspirituality.org/event/daily-online-meditation-sit/2026-07-17/
CATEGORIES:Free,Weekly Meditation Online
ATTACH;FMTTYPE=image/jpeg:https://www.jewishspirituality.org/wp-content/uploads/2024/09/Daily-Sit-IJS-Calendar-Thumb.jpg
END:VEVENT
BEGIN:VEVENT
DTSTART;TZID=America/New_York:20260720T123000
DTEND;TZID=America/New_York:20260720T130000
DTSTAMP:20260424T145903
CREATED:20250925T171616Z
LAST-MODIFIED:20260109T162051Z
UID:10006561-1784550600-1784552400@www.jewishspirituality.org
SUMMARY:Daily Online Meditation Sit
DESCRIPTION:Join one of our expert teachers as they lead a live daily guided meditation\, sharing 30 minutes of Jewish mindfulness with people from around the world. Open to all\, no experience needed.
URL:https://www.jewishspirituality.org/event/daily-online-meditation-sit/2026-07-20/
CATEGORIES:Free,Weekly Meditation Online
ATTACH;FMTTYPE=image/jpeg:https://www.jewishspirituality.org/wp-content/uploads/2024/09/Daily-Sit-IJS-Calendar-Thumb.jpg
END:VEVENT
BEGIN:VEVENT
DTSTART;TZID=America/New_York:20260720T200000
DTEND;TZID=America/New_York:20260720T203000
DTSTAMP:20260424T145903
CREATED:20250818T155146Z
LAST-MODIFIED:20260422T023102Z
UID:10001944-1784577600-1784579400@www.jewishspirituality.org
SUMMARY:Shevet: A Jewish Mindfulness Community for Young Adults
DESCRIPTION:Amidst the great challenges and joys of our ever-changing world\, spiritual practice in community can nurture our capacity for wise response\, compassion\, resilience\, and well-being. Join IJS and our growing young adult community for 30 minutes of weekly Jewish mindfulness practice for folks in their 20s and 30s. Hosted by IJS Core Faculty Rebecca Schisler\, each live Zoom session is guided by a leading guest teacher of Jewish spirituality and mindfulness\, and includes an additional 15 minutes of optional Q&A and sharing. Participants are invited to join our Shevet Jewish Mindfulness Community WhatsApp group to connect with other spiritual seekers.
URL:https://www.jewishspirituality.org/event/shevet-a-jewish-mindfulness-community-for-young-adults-2/2026-07-20/
CATEGORIES:Free,Weekly Meditation Online
ATTACH;FMTTYPE=image/jpeg:https://www.jewishspirituality.org/wp-content/uploads/2024/04/Shevet2024.jpg
END:VEVENT
BEGIN:VEVENT
DTSTART;TZID=America/New_York:20260721T123000
DTEND;TZID=America/New_York:20260721T130000
DTSTAMP:20260424T145903
CREATED:20250925T171616Z
LAST-MODIFIED:20260109T162051Z
UID:10006562-1784637000-1784638800@www.jewishspirituality.org
SUMMARY:Daily Online Meditation Sit
DESCRIPTION:Join one of our expert teachers as they lead a live daily guided meditation\, sharing 30 minutes of Jewish mindfulness with people from around the world. Open to all\, no experience needed.
URL:https://www.jewishspirituality.org/event/daily-online-meditation-sit/2026-07-21/
CATEGORIES:Free,Weekly Meditation Online
ATTACH;FMTTYPE=image/jpeg:https://www.jewishspirituality.org/wp-content/uploads/2024/09/Daily-Sit-IJS-Calendar-Thumb.jpg
END:VEVENT
BEGIN:VEVENT
DTSTART;TZID=America/New_York:20260722T123000
DTEND;TZID=America/New_York:20260722T130000
DTSTAMP:20260424T145903
CREATED:20250925T171616Z
LAST-MODIFIED:20260109T162051Z
UID:10006563-1784723400-1784725200@www.jewishspirituality.org
SUMMARY:Daily Online Meditation Sit
DESCRIPTION:Join one of our expert teachers as they lead a live daily guided meditation\, sharing 30 minutes of Jewish mindfulness with people from around the world. Open to all\, no experience needed.
URL:https://www.jewishspirituality.org/event/daily-online-meditation-sit/2026-07-22/
CATEGORIES:Free,Weekly Meditation Online
ATTACH;FMTTYPE=image/jpeg:https://www.jewishspirituality.org/wp-content/uploads/2024/09/Daily-Sit-IJS-Calendar-Thumb.jpg
END:VEVENT
BEGIN:VEVENT
DTSTART;TZID=America/New_York:20260723T123000
DTEND;TZID=America/New_York:20260723T130000
DTSTAMP:20260424T145903
CREATED:20250925T171616Z
LAST-MODIFIED:20260109T162051Z
UID:10006564-1784809800-1784811600@www.jewishspirituality.org
SUMMARY:Daily Online Meditation Sit
DESCRIPTION:Join one of our expert teachers as they lead a live daily guided meditation\, sharing 30 minutes of Jewish mindfulness with people from around the world. Open to all\, no experience needed.
URL:https://www.jewishspirituality.org/event/daily-online-meditation-sit/2026-07-23/
CATEGORIES:Free,Weekly Meditation Online
ATTACH;FMTTYPE=image/jpeg:https://www.jewishspirituality.org/wp-content/uploads/2024/09/Daily-Sit-IJS-Calendar-Thumb.jpg
END:VEVENT
BEGIN:VEVENT
DTSTART;TZID=America/New_York:20260724T123000
DTEND;TZID=America/New_York:20260724T130000
DTSTAMP:20260424T145903
CREATED:20250925T171616Z
LAST-MODIFIED:20260109T162051Z
UID:10006565-1784896200-1784898000@www.jewishspirituality.org
SUMMARY:Daily Online Meditation Sit
DESCRIPTION:Join one of our expert teachers as they lead a live daily guided meditation\, sharing 30 minutes of Jewish mindfulness with people from around the world. Open to all\, no experience needed.
URL:https://www.jewishspirituality.org/event/daily-online-meditation-sit/2026-07-24/
CATEGORIES:Free,Weekly Meditation Online
ATTACH;FMTTYPE=image/jpeg:https://www.jewishspirituality.org/wp-content/uploads/2024/09/Daily-Sit-IJS-Calendar-Thumb.jpg
END:VEVENT
BEGIN:VEVENT
DTSTART;TZID=America/New_York:20260727T123000
DTEND;TZID=America/New_York:20260727T130000
DTSTAMP:20260424T145903
CREATED:20250925T171616Z
LAST-MODIFIED:20260109T162051Z
UID:10006568-1785155400-1785157200@www.jewishspirituality.org
SUMMARY:Daily Online Meditation Sit
DESCRIPTION:Join one of our expert teachers as they lead a live daily guided meditation\, sharing 30 minutes of Jewish mindfulness with people from around the world. Open to all\, no experience needed.
URL:https://www.jewishspirituality.org/event/daily-online-meditation-sit/2026-07-27/
CATEGORIES:Free,Weekly Meditation Online
ATTACH;FMTTYPE=image/jpeg:https://www.jewishspirituality.org/wp-content/uploads/2024/09/Daily-Sit-IJS-Calendar-Thumb.jpg
END:VEVENT
BEGIN:VEVENT
DTSTART;TZID=America/New_York:20260727T200000
DTEND;TZID=America/New_York:20260727T203000
DTSTAMP:20260424T145903
CREATED:20250818T155146Z
LAST-MODIFIED:20260422T023102Z
UID:10001945-1785182400-1785184200@www.jewishspirituality.org
SUMMARY:Shevet: A Jewish Mindfulness Community for Young Adults
DESCRIPTION:Amidst the great challenges and joys of our ever-changing world\, spiritual practice in community can nurture our capacity for wise response\, compassion\, resilience\, and well-being. Join IJS and our growing young adult community for 30 minutes of weekly Jewish mindfulness practice for folks in their 20s and 30s. Hosted by IJS Core Faculty Rebecca Schisler\, each live Zoom session is guided by a leading guest teacher of Jewish spirituality and mindfulness\, and includes an additional 15 minutes of optional Q&A and sharing. Participants are invited to join our Shevet Jewish Mindfulness Community WhatsApp group to connect with other spiritual seekers.
URL:https://www.jewishspirituality.org/event/shevet-a-jewish-mindfulness-community-for-young-adults-2/2026-07-27/
CATEGORIES:Free,Weekly Meditation Online
ATTACH;FMTTYPE=image/jpeg:https://www.jewishspirituality.org/wp-content/uploads/2024/04/Shevet2024.jpg
END:VEVENT
BEGIN:VEVENT
DTSTART;TZID=America/New_York:20260728T123000
DTEND;TZID=America/New_York:20260728T130000
DTSTAMP:20260424T145903
CREATED:20250925T171616Z
LAST-MODIFIED:20260109T162051Z
UID:10006569-1785241800-1785243600@www.jewishspirituality.org
SUMMARY:Daily Online Meditation Sit
DESCRIPTION:Join one of our expert teachers as they lead a live daily guided meditation\, sharing 30 minutes of Jewish mindfulness with people from around the world. Open to all\, no experience needed.
URL:https://www.jewishspirituality.org/event/daily-online-meditation-sit/2026-07-28/
CATEGORIES:Free,Weekly Meditation Online
ATTACH;FMTTYPE=image/jpeg:https://www.jewishspirituality.org/wp-content/uploads/2024/09/Daily-Sit-IJS-Calendar-Thumb.jpg
END:VEVENT
BEGIN:VEVENT
DTSTART;TZID=America/New_York:20260729T123000
DTEND;TZID=America/New_York:20260729T130000
DTSTAMP:20260424T145903
CREATED:20250925T171616Z
LAST-MODIFIED:20260109T162051Z
UID:10006570-1785328200-1785330000@www.jewishspirituality.org
SUMMARY:Daily Online Meditation Sit
DESCRIPTION:Join one of our expert teachers as they lead a live daily guided meditation\, sharing 30 minutes of Jewish mindfulness with people from around the world. Open to all\, no experience needed.
URL:https://www.jewishspirituality.org/event/daily-online-meditation-sit/2026-07-29/
CATEGORIES:Free,Weekly Meditation Online
ATTACH;FMTTYPE=image/jpeg:https://www.jewishspirituality.org/wp-content/uploads/2024/09/Daily-Sit-IJS-Calendar-Thumb.jpg
END:VEVENT
BEGIN:VEVENT
DTSTART;TZID=America/New_York:20260730T123000
DTEND;TZID=America/New_York:20260730T130000
DTSTAMP:20260424T145903
CREATED:20250925T171616Z
LAST-MODIFIED:20260109T162051Z
UID:10006571-1785414600-1785416400@www.jewishspirituality.org
SUMMARY:Daily Online Meditation Sit
DESCRIPTION:Join one of our expert teachers as they lead a live daily guided meditation\, sharing 30 minutes of Jewish mindfulness with people from around the world. Open to all\, no experience needed.
URL:https://www.jewishspirituality.org/event/daily-online-meditation-sit/2026-07-30/
CATEGORIES:Free,Weekly Meditation Online
ATTACH;FMTTYPE=image/jpeg:https://www.jewishspirituality.org/wp-content/uploads/2024/09/Daily-Sit-IJS-Calendar-Thumb.jpg
END:VEVENT
BEGIN:VEVENT
DTSTART;TZID=America/New_York:20260731T123000
DTEND;TZID=America/New_York:20260731T130000
DTSTAMP:20260424T145903
CREATED:20250925T171616Z
LAST-MODIFIED:20260109T162051Z
UID:10006572-1785501000-1785502800@www.jewishspirituality.org
SUMMARY:Daily Online Meditation Sit
DESCRIPTION:Join one of our expert teachers as they lead a live daily guided meditation\, sharing 30 minutes of Jewish mindfulness with people from around the world. Open to all\, no experience needed.
URL:https://www.jewishspirituality.org/event/daily-online-meditation-sit/2026-07-31/
CATEGORIES:Free,Weekly Meditation Online
ATTACH;FMTTYPE=image/jpeg:https://www.jewishspirituality.org/wp-content/uploads/2024/09/Daily-Sit-IJS-Calendar-Thumb.jpg
END:VEVENT
END:VCALENDAR